BEGIN:VCALENDAR
VERSION:2.0
PRODID:-//Wind &amp; Steel - ECPv6.15.11//NONSGML v1.0//EN
CALSCALE:GREGORIAN
METHOD:PUBLISH
X-ORIGINAL-URL:https://windandsteel.com
X-WR-CALDESC:Events for Wind &amp; Steel
REFRESH-INTERVAL;VALUE=DURATION:PT1H
X-Robots-Tag:noindex
X-PUBLISHED-TTL:PT1H
BEGIN:VTIMEZONE
TZID:UTC
BEGIN:STANDARD
TZOFFSETFROM:+0000
TZOFFSETTO:+0000
TZNAME:UTC
DTSTART:20190101T000000
END:STANDARD
END:VTIMEZONE
BEGIN:VTIMEZONE
TZID:America/Denver
BEGIN:DAYLIGHT
TZOFFSETFROM:-0700
TZOFFSETTO:-0600
TZNAME:MDT
DTSTART:20190310T090000
END:DAYLIGHT
BEGIN:STANDARD
TZOFFSETFROM:-0600
TZOFFSETTO:-0700
TZNAME:MST
DTSTART:20191103T080000
END:STANDARD
BEGIN:DAYLIGHT
TZOFFSETFROM:-0700
TZOFFSETTO:-0600
TZNAME:MDT
DTSTART:20200308T090000
END:DAYLIGHT
BEGIN:STANDARD
TZOFFSETFROM:-0600
TZOFFSETTO:-0700
TZNAME:MST
DTSTART:20201101T080000
END:STANDARD
BEGIN:DAYLIGHT
TZOFFSETFROM:-0700
TZOFFSETTO:-0600
TZNAME:MDT
DTSTART:20210314T090000
END:DAYLIGHT
BEGIN:STANDARD
TZOFFSETFROM:-0600
TZOFFSETTO:-0700
TZNAME:MST
DTSTART:20211107T080000
END:STANDARD
END:VTIMEZONE
BEGIN:VEVENT
DTSTART;TZID=UTC:20201212T133000
DTEND;TZID=UTC:20201212T143000
DTSTAMP:20260421T064140
CREATED:20200721T002330Z
LAST-MODIFIED:20201118T165959Z
UID:233-1607779800-1607783400@windandsteel.com
SUMMARY:Virtual Holiday Concert at Niles-Maine District Library
DESCRIPTION:Join us on Saturday\, December 12 for a virtual holiday concert from the Niles-Maine District Library! The performance will feature holiday favorites such as Frosty the Snowman\, Carol of the Bells\, selections from A Charlie Brown Christmas\, and several dances from The Nutcracker Suite. You can register for this online event here: https://nmdl.libnet.info/event/4476043
URL:https://windandsteel.com/event/virtual-concert-at-niles-library/
LOCATION:Niles-Maine Library\, 6960 W Oakton St\, Niles\, IL\, 60714\, United States
CATEGORIES:Wind & Steel Performance
ATTACH;FMTTYPE=image/jpeg:https://windandsteel.com/wp-content/uploads/2020/07/3.5-x-2-in-Instagram-Portrait-1.jpg
ORGANIZER;CN="Wind & Steel":MAILTO:info@windandsteel.com
END:VEVENT
BEGIN:VEVENT
DTSTART;TZID=America/Denver:20200802T180000
DTEND;TZID=America/Denver:20200802T190000
DTSTAMP:20260421T064140
CREATED:20200721T035436Z
LAST-MODIFIED:20221003T210456Z
UID:263-1596391200-1596394800@windandsteel.com
SUMMARY:John Denver Sanctuary Fundraiser
DESCRIPTION:
URL:https://windandsteel.com/event/john-denver-foundation-fundraiser/
LOCATION:John Denver Sanctuary\, 470 Rio Grande Pl\, Aspen\, Colorado\, 81611
CATEGORIES:Wind & Steel Performance
ATTACH;FMTTYPE=image/png:https://windandsteel.com/wp-content/uploads/2022/10/Wind-and-Steel-1-copy-2.png
ORGANIZER;CN="Wind & Steel":MAILTO:info@windandsteel.com
END:VEVENT
END:VCALENDAR